BEGIN:VCALENDAR
VERSION:2.0
PRODID:-//Ateneo Navarro | Nafar Ateneoa - ECPv6.15.14//NONSGML v1.0//EN
CALSCALE:GREGORIAN
METHOD:PUBLISH
X-WR-CALNAME:Ateneo Navarro | Nafar Ateneoa
X-ORIGINAL-URL:https://ateneonavarro.com
X-WR-CALDESC:Eventos para Ateneo Navarro | Nafar Ateneoa
REFRESH-INTERVAL;VALUE=DURATION:PT1H
X-Robots-Tag:noindex
X-PUBLISHED-TTL:PT1H
BEGIN:VTIMEZONE
TZID:Europe/Paris
BEGIN:DAYLIGHT
TZOFFSETFROM:+0100
TZOFFSETTO:+0200
TZNAME:CEST
DTSTART:20250330T010000
END:DAYLIGHT
BEGIN:STANDARD
TZOFFSETFROM:+0200
TZOFFSETTO:+0100
TZNAME:CET
DTSTART:20251026T010000
END:STANDARD
BEGIN:DAYLIGHT
TZOFFSETFROM:+0100
TZOFFSETTO:+0200
TZNAME:CEST
DTSTART:20260329T010000
END:DAYLIGHT
BEGIN:STANDARD
TZOFFSETFROM:+0200
TZOFFSETTO:+0100
TZNAME:CET
DTSTART:20261025T010000
END:STANDARD
BEGIN:DAYLIGHT
TZOFFSETFROM:+0100
TZOFFSETTO:+0200
TZNAME:CEST
DTSTART:20270328T010000
END:DAYLIGHT
BEGIN:STANDARD
TZOFFSETFROM:+0200
TZOFFSETTO:+0100
TZNAME:CET
DTSTART:20271031T010000
END:STANDARD
END:VTIMEZONE
BEGIN:VEVENT
DTSTART;TZID=Europe/Paris:20260330T190000
DTEND;TZID=Europe/Paris:20260330T190000
DTSTAMP:20260419T070850
CREATED:20260219T000718Z
LAST-MODIFIED:20260219T000718Z
UID:150053-1774897200-1774897200@ateneonavarro.com
SUMMARY:Viajar con libros. Estación Ateneo. El retorno de Némesis de Pedro Lozano Bartolozzi
DESCRIPTION:Ponente / Hizlaria: Pedro Lozano Bartolozzi. Doctor en Derecho y Escritor\nOrganiza / Antolatzailea: Gaudencio Remón.Filólogo \n  \nNémesis: en la mitología griega es la diosa de la justa indignación. Las desgracias que asolan nuestro mundo viajan —desgraciadamente— en briosos corceles apocalípticos por Oriente Medio\, China\, Balcanes\, ex URSS\, las Torres Gemelas de Nueva York… \nAsí\, en este viaje literario —tan mental como histórico— Némesis quiere tomar partido para imponer\, siquiera\, un poco de utopía. \n(*) Pedro Lozano Bartolozzi (Pamplona\, 1939) es periodista\, jurista e investigador. Profesor emérito de la Facultad de Comunicación de la Universidad de Navarra\, fue presidente de la Sociedad de Estudios Históricos de Navarra (SEHN) y vocal de los Consejos de Cultura y Audiovisual del Gobierno de Navarra. Entre los libros que ha publicado\, destacan Crítica de la razón comunicativa\, El barco de los juncos\, El rapto del periodismo y El misterioso cartapacio del dragón chino.
URL:https://ateneonavarro.com/evento/viajar-con-libros-estacion-ateneo-el-retorno-de-nemesis-de-pedro-lozano-bartolozzi/
LOCATION:Sede del Ateneo – Ateneoaren egoitzan\, Avda. Barañain\, 10 – 1ºA\, Pamplona\, NC
CATEGORIES:TERTULIA - SOLASALDIA
ATTACH;FMTTYPE=image/jpeg:https://ateneonavarro.com/wp-content/uploads/2026/02/librobartolozzi_ateneo.jpg
END:VEVENT
END:VCALENDAR