BEGIN:VCALENDAR
VERSION:2.0
PRODID:-//Ateneo Navarro | Nafar Ateneoa - ECPv6.15.14//NONSGML v1.0//EN
CALSCALE:GREGORIAN
METHOD:PUBLISH
X-ORIGINAL-URL:https://ateneonavarro.com
X-WR-CALDESC:Eventos para Ateneo Navarro | Nafar Ateneoa
REFRESH-INTERVAL;VALUE=DURATION:PT1H
X-Robots-Tag:noindex
X-PUBLISHED-TTL:PT1H
BEGIN:VTIMEZONE
TZID:Europe/Paris
BEGIN:DAYLIGHT
TZOFFSETFROM:+0100
TZOFFSETTO:+0200
TZNAME:CEST
DTSTART:20240331T010000
END:DAYLIGHT
BEGIN:STANDARD
TZOFFSETFROM:+0200
TZOFFSETTO:+0100
TZNAME:CET
DTSTART:20241027T010000
END:STANDARD
BEGIN:DAYLIGHT
TZOFFSETFROM:+0100
TZOFFSETTO:+0200
TZNAME:CEST
DTSTART:20250330T010000
END:DAYLIGHT
BEGIN:STANDARD
TZOFFSETFROM:+0200
TZOFFSETTO:+0100
TZNAME:CET
DTSTART:20251026T010000
END:STANDARD
BEGIN:DAYLIGHT
TZOFFSETFROM:+0100
TZOFFSETTO:+0200
TZNAME:CEST
DTSTART:20260329T010000
END:DAYLIGHT
BEGIN:STANDARD
TZOFFSETFROM:+0200
TZOFFSETTO:+0100
TZNAME:CET
DTSTART:20261025T010000
END:STANDARD
END:VTIMEZONE
BEGIN:VEVENT
DTSTART;TZID=Europe/Paris:20251215T190000
DTEND;TZID=Europe/Paris:20251215T190000
DTSTAMP:20260419T072212
CREATED:20251125T160934Z
LAST-MODIFIED:20251125T160934Z
UID:149393-1765825200-1765825200@ateneonavarro.com
SUMMARY:Viajar con libros. Estación Ateneo. Viaje a Creta de Regina Salcedo
DESCRIPTION:Ponente / Hizlaria: Regina Salcedo\nOrganiza / Antolatzailea: Gaudencio Remón \nViaje a Creta . Regina Salcedo \nLa autora comienza a preparar un viaje a Creta\, destino con el que lleva años soñando. La obra se convierte en un previo recorrido mental lleno de miedos\, incertidumbres e idealizaciones. La mitología griega acompaña casi toda la lectura y finaliza –felizmente– en Creta al albor de la primavera. \nEl libro se convierte en recorrido previo\, interrogación sobre la disposición mental y anímica con la que nos presentamos en los sitios amados: con qué ojos miramos e interpretamos el mundo\, qué peligros (miedos\, costumbres\, velos e idealizaciones) pueden alejarnos de la epojé\, ese ambicionado estado\, propuesto por los filósofos escépticos\, que consiste en dejar en suspensión nuestro juicio y todo aquello que creemos saber\, de modo que podamos conocer la realidad sin condicionamientos
URL:https://ateneonavarro.com/evento/viajar-con-libros-estacion-ateneo-viaje-a-creta-de-regina-salcedo/
LOCATION:Sede del Ateneo – Ateneoaren egoitzan\, Avda. Barañain\, 10 – 1ºA\, Pamplona\, NC
CATEGORIES:TERTULIA - SOLASALDIA
ATTACH;FMTTYPE=image/jpeg:https://ateneonavarro.com/wp-content/uploads/2025/11/tertuliareginasalcedo_ateneo.jpg
END:VEVENT
END:VCALENDAR