BEGIN:VCALENDAR
VERSION:2.0
PRODID:-//Ateneo Navarro | Nafar Ateneoa - ECPv6.15.14//NONSGML v1.0//EN
CALSCALE:GREGORIAN
METHOD:PUBLISH
X-WR-CALNAME:Ateneo Navarro | Nafar Ateneoa
X-ORIGINAL-URL:https://ateneonavarro.com
X-WR-CALDESC:Eventos para Ateneo Navarro | Nafar Ateneoa
REFRESH-INTERVAL;VALUE=DURATION:PT1H
X-Robots-Tag:noindex
X-PUBLISHED-TTL:PT1H
BEGIN:VTIMEZONE
TZID:Europe/Paris
BEGIN:DAYLIGHT
TZOFFSETFROM:+0100
TZOFFSETTO:+0200
TZNAME:CEST
DTSTART:20240331T010000
END:DAYLIGHT
BEGIN:STANDARD
TZOFFSETFROM:+0200
TZOFFSETTO:+0100
TZNAME:CET
DTSTART:20241027T010000
END:STANDARD
BEGIN:DAYLIGHT
TZOFFSETFROM:+0100
TZOFFSETTO:+0200
TZNAME:CEST
DTSTART:20250330T010000
END:DAYLIGHT
BEGIN:STANDARD
TZOFFSETFROM:+0200
TZOFFSETTO:+0100
TZNAME:CET
DTSTART:20251026T010000
END:STANDARD
BEGIN:DAYLIGHT
TZOFFSETFROM:+0100
TZOFFSETTO:+0200
TZNAME:CEST
DTSTART:20260329T010000
END:DAYLIGHT
BEGIN:STANDARD
TZOFFSETFROM:+0200
TZOFFSETTO:+0100
TZNAME:CET
DTSTART:20261025T010000
END:STANDARD
END:VTIMEZONE
BEGIN:VEVENT
DTSTART;TZID=Europe/Paris:20251124T190000
DTEND;TZID=Europe/Paris:20251124T190000
DTSTAMP:20260422T235121
CREATED:20251029T081105Z
LAST-MODIFIED:20251104T124629Z
UID:149117-1764010800-1764010800@ateneonavarro.com
SUMMARY:Viajar con libros. Estación Ateneo. La balada del mistral de Olivier Mak-Bouchard
DESCRIPTION:Ponente / Hizlaria: Inma Biurrun. Profesora de Lengua Francesa\nOrganiza / Antolatzailea: Gaudencio Remón \nLa balada del mistral . Olivier Mak-Bouchard \nEn la Provenza francesa la cadena montañosa de Luberon es tierra de lavanda\, escabrosos precipicios y pueblos sobre cimas rocosas donde azota el temible mistral: un viento frío\, seco y potente que condiciona el ánimo de sus habitantes. En ese entorno\, propenso a mitos y leyendas\, se han desarrollado fábulas de druidas y hechiceras que bailan la farandola en noches de luna llena. Una obra llena de tradición y cromatismo.
URL:https://ateneonavarro.com/evento/viajar-con-libros-estacion-ateneo-la-balada-del-mistral-de-olivier-mak-bouchard/
LOCATION:Sede del Ateneo – Ateneoaren egoitzan\, Avda. Barañain\, 10 – 1ºA\, Pamplona\, NC
CATEGORIES:TERTULIA - SOLASALDIA
ATTACH;FMTTYPE=image/jpeg:https://ateneonavarro.com/wp-content/uploads/2025/10/ateneo_actividad14_noviembre.jpg
END:VEVENT
END:VCALENDAR