BEGIN:VCALENDAR
VERSION:2.0
PRODID:-//Ateneo Navarro | Nafar Ateneoa - ECPv6.15.14//NONSGML v1.0//EN
CALSCALE:GREGORIAN
METHOD:PUBLISH
X-ORIGINAL-URL:https://ateneonavarro.com
X-WR-CALDESC:Eventos para Ateneo Navarro | Nafar Ateneoa
REFRESH-INTERVAL;VALUE=DURATION:PT1H
X-Robots-Tag:noindex
X-PUBLISHED-TTL:PT1H
BEGIN:VTIMEZONE
TZID:Europe/Paris
BEGIN:DAYLIGHT
TZOFFSETFROM:+0100
TZOFFSETTO:+0200
TZNAME:CEST
DTSTART:20250330T010000
END:DAYLIGHT
BEGIN:STANDARD
TZOFFSETFROM:+0200
TZOFFSETTO:+0100
TZNAME:CET
DTSTART:20251026T010000
END:STANDARD
BEGIN:DAYLIGHT
TZOFFSETFROM:+0100
TZOFFSETTO:+0200
TZNAME:CEST
DTSTART:20260329T010000
END:DAYLIGHT
BEGIN:STANDARD
TZOFFSETFROM:+0200
TZOFFSETTO:+0100
TZNAME:CET
DTSTART:20261025T010000
END:STANDARD
BEGIN:DAYLIGHT
TZOFFSETFROM:+0100
TZOFFSETTO:+0200
TZNAME:CEST
DTSTART:20270328T010000
END:DAYLIGHT
BEGIN:STANDARD
TZOFFSETFROM:+0200
TZOFFSETTO:+0100
TZNAME:CET
DTSTART:20271031T010000
END:STANDARD
END:VTIMEZONE
BEGIN:VEVENT
DTSTART;TZID=Europe/Paris:20260328T193000
DTEND;TZID=Europe/Paris:20260328T193000
DTSTAMP:20260420T101917
CREATED:20260218T235942Z
LAST-MODIFIED:20260219T000108Z
UID:150046-1774726200-1774726200@ateneonavarro.com
SUMMARY:Día Mundial del Teatro. Lectura dramatizada: Soñando con Lorca
DESCRIPTION:Presenta / Aurkezlea: Miguel Zozaya\nPresenta / Aurkezlea: Patxi Burillo. Vocal de Cinematografía\nDramaturgia y dirección / Dramaturgia eta zuzendaritza: Pedro Miguel Martínez\nProducción / Ekoizpena: Cardo Films\nReparto / Zerrenda: José María Asín\, Maiken Beitia\, Iratxe García-Uriz\, Marta Juániz\, Aurora Moneo\, Jon Muñoz\, Leire Ruiz\, Pablo Salaberri y Oier Zúñiga\nPianista / Piano-jolea: Francesco Casali\nCoordina / koordinatzailea: Pedro Salaberri. Vocal de Artes Plásticas\nOrganizan / Antolatzaileak: Civivox Iturrama y Ateneo Navarro \nEl Sueño va sobre el Tiempo\nflotando como un velero.\nNadie puede abrir semillas\nen el corazón del Sueño. \nEsto dice Lorca por boca del Arlequín en Así que pasen cinco años. El “sueño” está presente en sus obras más realistas: el sueño del amor romántico en Doña Rosita\, el de la maternidad en Yerma\, el del amor libre de Bodas o el sueño-pesadilla de la represión que es Bernarda… Pero el realismo desaparece definitivamente en el Lorca más arriesgado: Así que pasen cinco años o El público pertenecen a un autor diferente y excepcional cuyas palabras no se “entienden” de la forma realista a la que estamos acostumbrados. \nSi nos dejamos llevar\, el viaje está asegurado. Os invitamos a un viaje sonámbulo desde las palabras de Lorca: escenas\, poemas\, reflexiones… Tocaremos tierra y también aire con las canciones populares que él armonizó e incluso grabó con La Argentinita en un disco memorable. Confiamos en espectadores dispuestos a soñar despiertos. \nPrecio / Prezio: 3 €\nCon inscripción previa en / Aldez aurretik izena emanda: www.pamplonaescultura.es www.pamplona.es T. 948 420 100 / 010
URL:https://ateneonavarro.com/evento/dia-mundial-del-teatro-lectura-dramatizada-sonando-con-lorca/
LOCATION:Civivox Iturrama\, C/ Esquiroz\, 24\, Pamplona
CATEGORIES:TEATRO - ANTZERKIA
ATTACH;FMTTYPE=image/jpeg:https://ateneonavarro.com/wp-content/uploads/2026/02/teatro_lorca_ateneo.jpg
END:VEVENT
END:VCALENDAR