BEGIN:VCALENDAR
VERSION:2.0
PRODID:-//Ateneo Navarro | Nafar Ateneoa - ECPv6.15.14//NONSGML v1.0//EN
CALSCALE:GREGORIAN
METHOD:PUBLISH
X-ORIGINAL-URL:https://ateneonavarro.com
X-WR-CALDESC:Eventos para Ateneo Navarro | Nafar Ateneoa
REFRESH-INTERVAL;VALUE=DURATION:PT1H
X-Robots-Tag:noindex
X-PUBLISHED-TTL:PT1H
BEGIN:VTIMEZONE
TZID:Europe/Paris
BEGIN:DAYLIGHT
TZOFFSETFROM:+0100
TZOFFSETTO:+0200
TZNAME:CEST
DTSTART:20250330T010000
END:DAYLIGHT
BEGIN:STANDARD
TZOFFSETFROM:+0200
TZOFFSETTO:+0100
TZNAME:CET
DTSTART:20251026T010000
END:STANDARD
BEGIN:DAYLIGHT
TZOFFSETFROM:+0100
TZOFFSETTO:+0200
TZNAME:CEST
DTSTART:20260329T010000
END:DAYLIGHT
BEGIN:STANDARD
TZOFFSETFROM:+0200
TZOFFSETTO:+0100
TZNAME:CET
DTSTART:20261025T010000
END:STANDARD
BEGIN:DAYLIGHT
TZOFFSETFROM:+0100
TZOFFSETTO:+0200
TZNAME:CEST
DTSTART:20270328T010000
END:DAYLIGHT
BEGIN:STANDARD
TZOFFSETFROM:+0200
TZOFFSETTO:+0100
TZNAME:CET
DTSTART:20271031T010000
END:STANDARD
END:VTIMEZONE
BEGIN:VEVENT
DTSTART;TZID=Europe/Paris:20260514T190000
DTEND;TZID=Europe/Paris:20260514T190000
DTSTAMP:20260419T071702
CREATED:20260323T081227Z
LAST-MODIFIED:20260408T103922Z
UID:150126-1778785200-1778785200@ateneonavarro.com
SUMMARY:Liburu aurkezpena: Euskara eta biok. Andrea Bella
DESCRIPTION:Hizlariak / Ponente: Andrea Bella*. \nAntolatzailea / Organiza: Euskara saila. \n  \nJalgi hadi mundura bidaia-koaderno ilustratua da\, eta euskararekiko nire ibilbidea jasotzea du xede nagusia. Liburu-objektu gisa pentsatua izan da\, sketchbook kutsuko formatu berezian\, eta nire eskutik sortutako marrazkiz lepo dago\, estilo desberdinetan landuak; horrela\, liburua irakurtzetik bisualki esploratzera jauzi egiteko gomita ere bada. Testu egilea\, Ainize Madariaga Muthular senpertarra da eta berak josi ditu maisuki hitza eta marrazkia \n(*) Andrea Bella (Montevideo\,1978) Uruguaitarra da\, eta haur hezkuntzako irakaslea\, euskara irakaslea\, ilustratzailea\, eta azken urteotan Euskaraldiaren eta hikaren sustapenean oso aktiboki parte hartu du. Euskal kulturarekiko eta euskararekiko lotura sakona du\, nahiz eta jatorri familiarrak ez diren euskaldunak.
URL:https://ateneonavarro.com/evento/liburu-aurkezpena-euskara-eta-biok-andrea-bella/
LOCATION:Biblioteca General de Navarra\, P.º Antonio Pérez Goyena\, 3\, Pamplona
CATEGORIES:LIBROS - LIBURUAK
ATTACH;FMTTYPE=image/png:https://ateneonavarro.com/wp-content/uploads/2026/03/Euskara-eta-biok.png
END:VEVENT
END:VCALENDAR