BEGIN:VCALENDAR
VERSION:2.0
PRODID:-//Ateneo Navarro | Nafar Ateneoa - ECPv6.15.14//NONSGML v1.0//EN
CALSCALE:GREGORIAN
METHOD:PUBLISH
X-WR-CALNAME:Ateneo Navarro | Nafar Ateneoa
X-ORIGINAL-URL:https://ateneonavarro.com
X-WR-CALDESC:Eventos para Ateneo Navarro | Nafar Ateneoa
REFRESH-INTERVAL;VALUE=DURATION:PT1H
X-Robots-Tag:noindex
X-PUBLISHED-TTL:PT1H
BEGIN:VTIMEZONE
TZID:Europe/Paris
BEGIN:DAYLIGHT
TZOFFSETFROM:+0100
TZOFFSETTO:+0200
TZNAME:CEST
DTSTART:20250330T010000
END:DAYLIGHT
BEGIN:STANDARD
TZOFFSETFROM:+0200
TZOFFSETTO:+0100
TZNAME:CET
DTSTART:20251026T010000
END:STANDARD
BEGIN:DAYLIGHT
TZOFFSETFROM:+0100
TZOFFSETTO:+0200
TZNAME:CEST
DTSTART:20260329T010000
END:DAYLIGHT
BEGIN:STANDARD
TZOFFSETFROM:+0200
TZOFFSETTO:+0100
TZNAME:CET
DTSTART:20261025T010000
END:STANDARD
BEGIN:DAYLIGHT
TZOFFSETFROM:+0100
TZOFFSETTO:+0200
TZNAME:CEST
DTSTART:20270328T010000
END:DAYLIGHT
BEGIN:STANDARD
TZOFFSETFROM:+0200
TZOFFSETTO:+0100
TZNAME:CET
DTSTART:20271031T010000
END:STANDARD
END:VTIMEZONE
BEGIN:VEVENT
DTSTART;TZID=Europe/Paris:20260303T190000
DTEND;TZID=Europe/Paris:20260303T200000
DTSTAMP:20260414T110537
CREATED:20260218T210317Z
LAST-MODIFIED:20260218T210411Z
UID:149962-1772564400-1772568000@ateneonavarro.com
SUMMARY:Presentación libro: Los días que no existieron. Daniel Ramírez García-Mina
DESCRIPTION:Autor: Daniel Ramírez García-Mina*.\nPresenta / Aurkezlea: Carlos Rodríguez Braun. \nAntolatzailea / Organiza:  Vocalía de Poesía. \nTras adentrarse en los territorios de la no ficción y la poesía\, el autor pamplonés se inicia en el ámbito de la novela con un thriller histórico y emocional que desentierra verdades incómodas del siglo XX español. \n(*) Daniel Ramírez García-Mina (Pamplona\, 1992) es periodista y escritor. Trabaja como redactor jefe en El Español y participa en el programa “Más de uno” de Carlos Alsina\, en Onda Cero. Ha publicado cinco libros de no ficción y un par de poemarios. Entre ellos\, Eusebius\, capitán de la Nave de Baco\, un retrato del que fuera crítico musical de Diario de Navarra\, Porque somos Osasuna\, una historia personal del club de sus amores\, y Paso marcial\, en el que investigó la trayectoria de su abuelo\, médico militar en la guerra civil.
URL:https://ateneonavarro.com/evento/presentacion-libro-los-dias-que-no-existieron-daniel-ramirez-garcia-mina/
LOCATION:Nuevo Casino Principal\, Pl. del Castillo\, n° 44 bis\, 1°\, Pamplona\, NC
CATEGORIES:LIBROS - LIBURUAK
ATTACH;FMTTYPE=image/jpeg:https://ateneonavarro.com/wp-content/uploads/2026/02/libro_diasquenoexistieron_ateneo.jpg
END:VEVENT
BEGIN:VEVENT
DTSTART;TZID=Europe/Paris:20260305T190000
DTEND;TZID=Europe/Paris:20260305T200000
DTSTAMP:20260414T110537
CREATED:20260218T210819Z
LAST-MODIFIED:20260218T211312Z
UID:149970-1772737200-1772740800@ateneonavarro.com
SUMMARY:Presentación libro: Diario ateniense de un lanzador de naranjas. Javier Aguirre Santos
DESCRIPTION:Autor: Javier Aguirre Santos*.\nPresenta / Aurkezlea: J. Miguel García-Velilla.  \n  \nMás epicúreo que platónico\, Javier Aguirre convierte a Atenas en el protagonista de un libro lleno de gente\, literatura\, historia\, música\, mil aromas y mil sabores. En él hay espacio también para Tesalónica\, Estambul y Oristano (Cerdeña). Editado por Xórdica en 2025. \n(*) Javier Aguirre Santos (Zaragoza\, 1959) es profesor de Filosofía Antigua en la Universidad del País Vasco (UPV/EHU). Ha sido profesor en enseñanzas medias y profesor invitado en varias universidades europeas y americanas. Ha publicado los libros Filosofo presokratikoak (2004)\, La aporía en Aristóteles (2007)\, Aristotelesen “Metafisikari” sarrera (2008)\, Platón y la poesía: “Jon” (2013)\, Dialéctica y filosofía primera. Lectura de la “Metafísica” de Aristóteles (2015) y Platón y la valentía: “Laques” (con Jonathan Lavilla\, 2022). Desde 2017 dirige Rolde. Revista de Cultura Aragonesa.
URL:https://ateneonavarro.com/evento/presentacion-libro-diario-ateniense-de-un-lanzador-de-naranjas-javier-aguirre-santos/
LOCATION:Libreria Walden\, C. Paulino Caballero\, 31\, NC
CATEGORIES:LIBROS - LIBURUAK
ATTACH;FMTTYPE=image/jpeg:https://ateneonavarro.com/wp-content/uploads/2026/02/libro_atenienselanzadornaranjas_ateneo.jpg
END:VEVENT
BEGIN:VEVENT
DTSTART;TZID=Europe/Paris:20260310T183000
DTEND;TZID=Europe/Paris:20260310T200000
DTSTAMP:20260414T110537
CREATED:20260218T225102Z
LAST-MODIFIED:20260309T105838Z
UID:150011-1773167400-1773172800@ateneonavarro.com
SUMMARY:Presentación de libro: Carlistas contra Franco. Manuel Martorell
DESCRIPTION:Autor: Manuel Martorell*.\nPresenta / Aurkezlea: Reyes Berruezo.\nOrganiza / Antolatzailea: Vocalía de Humanidades \n  \nEn las últimas décadas\, se ha extendido una identificación simplista del carlismo con el franquismo\, obviando que\, incluso en la posguerra\, ya existieron sectores importantes del legitimismo enfrentados al régimen de Franco. Esta oposición se intensificó durante los años sesenta del pasado siglo y se agudizó al final de la dictadura\, un periodo en el que el Partido Carlista jugó también un relevante papel para lograr la ansiada unidad de las fuerzas antifranquistas. \nPartiendo de un centenar de testimonios personales y la aportación de un valioso material gráfico\, Manuel Martorell rescata este importante segmento de nuestra historia contemporánea a punto de caer en el olvido. \n(*) Manuel Martorell Pérez (Elizondo\, 1953) es periodista e historiador. Ha escrito varios libros centrados en los conflictos de Oriente Medio\, con especial atención a las vicisitudes del pueblo kurdo\, y en figuras relevantes de la militancia navarra del Partido Comunista de España\, como Jesús Monzón o las hermanas Josefa y Elisa Úriz Pi. Es un estudioso de la historia del carlismo durante la etapa del franquismo. \n(*) Reyes Berruezo (Pamplona\, 1951)\, ex diputada foral\, ex consejera del Gobierno de Navarra y ex vicerrectora de la UPNA. Especialista en la historia de la represión del profesorado en Navarra durante y después de la guerra civil.
URL:https://ateneonavarro.com/evento/presentacion-de-libro-carlistas-contra-franco-manuel-martorell/
LOCATION:Libreria Txalaparta
CATEGORIES:LIBROS - LIBURUAK
ATTACH;FMTTYPE=image/jpeg:https://ateneonavarro.com/wp-content/uploads/2026/02/libro_carlistascontrafranco_ateneo.jpg
END:VEVENT
END:VCALENDAR