BEGIN:VCALENDAR
VERSION:2.0
PRODID:-//Ateneo Navarro | Nafar Ateneoa - ECPv6.15.14//NONSGML v1.0//EN
CALSCALE:GREGORIAN
METHOD:PUBLISH
X-ORIGINAL-URL:https://ateneonavarro.com
X-WR-CALDESC:Eventos para Ateneo Navarro | Nafar Ateneoa
REFRESH-INTERVAL;VALUE=DURATION:PT1H
X-Robots-Tag:noindex
X-PUBLISHED-TTL:PT1H
BEGIN:VTIMEZONE
TZID:Europe/Paris
BEGIN:DAYLIGHT
TZOFFSETFROM:+0100
TZOFFSETTO:+0200
TZNAME:CEST
DTSTART:20250330T010000
END:DAYLIGHT
BEGIN:STANDARD
TZOFFSETFROM:+0200
TZOFFSETTO:+0100
TZNAME:CET
DTSTART:20251026T010000
END:STANDARD
BEGIN:DAYLIGHT
TZOFFSETFROM:+0100
TZOFFSETTO:+0200
TZNAME:CEST
DTSTART:20260329T010000
END:DAYLIGHT
BEGIN:STANDARD
TZOFFSETFROM:+0200
TZOFFSETTO:+0100
TZNAME:CET
DTSTART:20261025T010000
END:STANDARD
BEGIN:DAYLIGHT
TZOFFSETFROM:+0100
TZOFFSETTO:+0200
TZNAME:CEST
DTSTART:20270328T010000
END:DAYLIGHT
BEGIN:STANDARD
TZOFFSETFROM:+0200
TZOFFSETTO:+0100
TZNAME:CET
DTSTART:20271031T010000
END:STANDARD
END:VTIMEZONE
BEGIN:VEVENT
DTSTART;TZID=Europe/Paris:20260310T193000
DTEND;TZID=Europe/Paris:20260310T200000
DTSTAMP:20260421T160739
CREATED:20260218T224408Z
LAST-MODIFIED:20260218T224408Z
UID:150007-1773171000-1773172800@ateneonavarro.com
SUMMARY:Dokumental proiekzioa: Lurdes iriondo\, ez gera alferrik pasako
DESCRIPTION:Zuzendaritza / Dirección: Inge Mendioroz*\nAntolatzaileak / Organizan: Nafar Ateneoa eta Iruñeko Udala \n  \nEuskal kulturako funtsezko ahotsetako bat berreskuratzeko ahalegina da ‘Lurdes Iriondo: ez gera alferrik pasako’ dokumentala\, Lurdes Iriondoren bizitza eta ondarea balioan jartzea eta gaur arte iritsi zaizkigun klixe zaharrak behin betiko baztertzea helburu duena. \n(*) Inge Mendioroz (Donostia\,1973) 2016tik kamera eta muntatzaile lanetan dihardu\, Behirada izenarekin. Diseinu grafikoa eta ilustrazioa ikaketak eta Postprodukzioan masterra eginak ditu. Gaztezulo aldizkarian maketatzaile aritu zen hainbat urtez. ‘Ez\, eskerrik asko! Gladysen leihoa’ (2019) dokumentala eta ‘Pioneras’ (2021) film luze dokumentala ere zuzendu ditu.
URL:https://ateneonavarro.com/evento/dokumental-proiekzioa-lurdes-iriondo-ez-gera-alferrik-pasako/
LOCATION:Civivox  Condestable – Kondestablearen Civivox\, C. Mayor\, 2\, Pamplona
CATEGORIES:DOCUMENTAL-DOKUMENTALA
ATTACH;FMTTYPE=image/jpeg:https://ateneonavarro.com/wp-content/uploads/2026/02/dokumentala_Lurdes-iriondo_ateneo.jpg
END:VEVENT
BEGIN:VEVENT
DTSTART;TZID=Europe/Paris:20260327T190000
DTEND;TZID=Europe/Paris:20260327T200000
DTSTAMP:20260421T160739
CREATED:20260218T234817Z
LAST-MODIFIED:20260218T234817Z
UID:150043-1774638000-1774641600@ateneonavarro.com
SUMMARY:Dokumental proiekzioa: Emak bakia – 100 urte
DESCRIPTION:Hizlaria / Ponente: Oskar Alegria \nAntolatzaileak / Organizan: Euskara bokalia  \n  \nOskar Alegriak\, zuzendari bezala 2012an egin zuen debuta Emak Bakia baita filmarekin. Ipar Euskal Herriko kostaldeko etxe baten bilaketari buruzko filma da; 1926an Man Rayk Emak Bakia filmatu zuen etxearen bilaketa\, hain zuzen. Alegriak etxe hori aurkitu nahi du\, eta pista gisa Man Rayren filmean agertzen diren hiru planoak besterik ez ditu: bi zutabe\, kostaldearen ikuspegi bat eta sarrerako atearen irudia. Bilaketa horretan bere bidaiaren planoak eta Man Rayren filmarenak tartekatzen ditu. Pelikularen erdialdera etxea aurkitzen du\, eta zerotik hasten da berriro. Etxea aitzakia bat da Alegriarentzat\, helburua bidea da\, ez helmuga. \n(*) Oskar Alegria (Iruñea\, 1973) Zinemagile atipikoa da. Kazetari gisa aritu da\, eta 2013 eta 2016 artean Iruñeko Punto de Vista jaialdiko zuzendari artistikoa izan zen. 2012an egin zuen debuta\, eta ordutik bilaketa-istorioak eskaintzen dizkio publikoari\, oso ohikoa ez den narratiba batetik kontatuta. Kazetari gisa\, bidaiei buruz idatzi zuen\, eta horrek lotura estua du bere zinematografiarekin.
URL:https://ateneonavarro.com/evento/dokumental-proiekzioa-emak-bakia-100-urte/
LOCATION:Civivox Iturrama\, C/ Esquiroz\, 24\, Pamplona
CATEGORIES:DOCUMENTAL-DOKUMENTALA
ATTACH;FMTTYPE=image/jpeg:https://ateneonavarro.com/wp-content/uploads/2026/02/emakbakia_ateneo.jpg
END:VEVENT
END:VCALENDAR