BEGIN:VCALENDAR
VERSION:2.0
PRODID:-//Ateneo Navarro | Nafar Ateneoa - ECPv6.15.14//NONSGML v1.0//EN
CALSCALE:GREGORIAN
METHOD:PUBLISH
X-WR-CALNAME:Ateneo Navarro | Nafar Ateneoa
X-ORIGINAL-URL:https://ateneonavarro.com
X-WR-CALDESC:Eventos para Ateneo Navarro | Nafar Ateneoa
REFRESH-INTERVAL;VALUE=DURATION:PT1H
X-Robots-Tag:noindex
X-PUBLISHED-TTL:PT1H
BEGIN:VTIMEZONE
TZID:Europe/Paris
BEGIN:DAYLIGHT
TZOFFSETFROM:+0100
TZOFFSETTO:+0200
TZNAME:CEST
DTSTART:20250330T010000
END:DAYLIGHT
BEGIN:STANDARD
TZOFFSETFROM:+0200
TZOFFSETTO:+0100
TZNAME:CET
DTSTART:20251026T010000
END:STANDARD
BEGIN:DAYLIGHT
TZOFFSETFROM:+0100
TZOFFSETTO:+0200
TZNAME:CEST
DTSTART:20260329T010000
END:DAYLIGHT
BEGIN:STANDARD
TZOFFSETFROM:+0200
TZOFFSETTO:+0100
TZNAME:CET
DTSTART:20261025T010000
END:STANDARD
BEGIN:DAYLIGHT
TZOFFSETFROM:+0100
TZOFFSETTO:+0200
TZNAME:CEST
DTSTART:20270328T010000
END:DAYLIGHT
BEGIN:STANDARD
TZOFFSETFROM:+0200
TZOFFSETTO:+0100
TZNAME:CET
DTSTART:20271031T010000
END:STANDARD
END:VTIMEZONE
BEGIN:VEVENT
DTSTART;TZID=Europe/Paris:20260210T193000
DTEND;TZID=Europe/Paris:20260210T200000
DTSTAMP:20260419T065607
CREATED:20260127T094800Z
LAST-MODIFIED:20260127T094800Z
UID:149877-1770751800-1770753600@ateneonavarro.com
SUMMARY:Dokumental proiekzioa: Sorgina banaiz!
DESCRIPTION:Zuzendaritza / Dirección: Asisko Urmeneta*\nAntolatzaileak / Organizan: Nafar Ateneoa eta\nIruñeko Udala \nDokumentalak oinarri hartzen du Euskal Herrian sorgin ehizaren lehen kondena kolektiboaren 500. urteurrena. Prozesu historiko haiek argitu nahian\, lan-hipotesia bat lantzen da: “sekta satanikoaren” teoria europar elite intelektualaren eraikuntza artifizial bat izan zela\, auzitegi laiko zein erlijiosoetatik ateratako ingeniaritza juridiko hutsa: sorginkeria demoniakoa “herria izutzeko koartada” bat baino ez zen izan. \n(*) Asisko Urmeneta (Iruñea\, 1965) Nafar irudigilea\, komikilaria eta idazlea da. Horrez gain\, ETB1 Mihiluze saioan jardun zuen karikaturak egiten eta Juanjo Elordirekin batera\, ‘Munduaren bira 80 egunetan’ eta ‘Gartxot’\, filmak zuzendu zituen. Bere sorlanetan\, irudien estetika eta karikatura kezka eta gai sakonagoen adierazle dira.
URL:https://ateneonavarro.com/evento/dokumental-proiekzioa-sorgina-banaiz/
LOCATION:Civivox  Condestable – Kondestablearen Civivox\, C. Mayor\, 2\, Pamplona
CATEGORIES:DOCUMENTAL-DOKUMENTALA
ATTACH;FMTTYPE=image/jpeg:https://ateneonavarro.com/wp-content/uploads/2026/01/Sorgina-banaiz-scaled.jpg
END:VEVENT
END:VCALENDAR