BEGIN:VCALENDAR
VERSION:2.0
PRODID:-//Ateneo Navarro | Nafar Ateneoa - ECPv6.15.14//NONSGML v1.0//EN
CALSCALE:GREGORIAN
METHOD:PUBLISH
X-WR-CALNAME:Ateneo Navarro | Nafar Ateneoa
X-ORIGINAL-URL:https://ateneonavarro.com
X-WR-CALDESC:Eventos para Ateneo Navarro | Nafar Ateneoa
REFRESH-INTERVAL;VALUE=DURATION:PT1H
X-Robots-Tag:noindex
X-PUBLISHED-TTL:PT1H
BEGIN:VTIMEZONE
TZID:Europe/Paris
BEGIN:DAYLIGHT
TZOFFSETFROM:+0100
TZOFFSETTO:+0200
TZNAME:CEST
DTSTART:20250330T010000
END:DAYLIGHT
BEGIN:STANDARD
TZOFFSETFROM:+0200
TZOFFSETTO:+0100
TZNAME:CET
DTSTART:20251026T010000
END:STANDARD
BEGIN:DAYLIGHT
TZOFFSETFROM:+0100
TZOFFSETTO:+0200
TZNAME:CEST
DTSTART:20260329T010000
END:DAYLIGHT
BEGIN:STANDARD
TZOFFSETFROM:+0200
TZOFFSETTO:+0100
TZNAME:CET
DTSTART:20261025T010000
END:STANDARD
BEGIN:DAYLIGHT
TZOFFSETFROM:+0100
TZOFFSETTO:+0200
TZNAME:CEST
DTSTART:20270328T010000
END:DAYLIGHT
BEGIN:STANDARD
TZOFFSETFROM:+0200
TZOFFSETTO:+0100
TZNAME:CET
DTSTART:20271031T010000
END:STANDARD
END:VTIMEZONE
BEGIN:VEVENT
DTSTART;TZID=Europe/Paris:20260308T120000
DTEND;TZID=Europe/Paris:20260308T190000
DTSTAMP:20260421T130457
CREATED:20260218T220046Z
LAST-MODIFIED:20260218T220421Z
UID:149979-1772971200-1772996400@ateneonavarro.com
SUMMARY:Mujeres y música: La lucha por un sueño
DESCRIPTION:Intérpretes / Interpreteak: Francesca Croccolino y Silvia Sucunza*\nOrganiza / Antolatzailea: Julio Escauriaza. Vocal de Música y Artes Escénicas \n  \nConcierto de piano a cuatro manos con motivo del Día de la Mujer. Francesca Croccolino y Silvia Lacunza interpretarán obras de cuatro mujeres compositoras: Cecile Chaminade\, Amy Beach\, Mel Bonis y Fanny Mendelsshon. Un bello recital como homenaje en su día. \nEntre pieza y pieza\, pondrán voz a unos textos creados para la ocasión basados en la biografía de las compositoras de esas obras\, como si se tratase de cartas en las que expresan sus sentimientos y las dificultades a las que deben hacer frente por estar desarrollando una actividad considerada solo digna y propia de hombres. El auditorio será testigo de un repertorio\, en su mayor parte desconocido\, fruto de unas vidas creadoras nada fáciles en aquella época. \nPièces Romantiques\, Op.55 – Cecile Chaminade (1857-1944)\nSummer Dreams\, Op.47 – Amy Beach (1867-1944)\nSuite en Forma de Valses Op.35 / 39 – Mel Bonis (1858-1937)\nDrei Stucke – Fanny Mendelssohn (1805-1847) \n(*) Francesca Croccolino y Silvia Sucunza. Además de ser grandes amigas\, forman un dúo estable desde el año 2004\, año en el que iniciaron su andadura con motivo de la conferencia-concierto en torno a Antonín Dvorak que tuvo lugar en el Teatro Gayarre de Pamplona. Desde esa fecha han ofrecido recitales en León\, Orense\, San Sebastián\, Málaga\, además de haber recorrido casi toda la geografía navarra.
URL:https://ateneonavarro.com/evento/mujeres-y-musica-la-lucha-por-un-sueno/
LOCATION:Nuevo Casino Principal\, Pl. del Castillo\, n° 44 bis\, 1°\, Pamplona\, NC
CATEGORIES:CONCIERTO - KONTZERTUA
ATTACH;FMTTYPE=image/jpeg:https://ateneonavarro.com/wp-content/uploads/2026/02/concierto_mujeres_ateneo.jpg
END:VEVENT
END:VCALENDAR