BEGIN:VCALENDAR
VERSION:2.0
PRODID:-//Ateneo Navarro | Nafar Ateneoa - ECPv6.15.14//NONSGML v1.0//EN
CALSCALE:GREGORIAN
METHOD:PUBLISH
X-ORIGINAL-URL:https://ateneonavarro.com
X-WR-CALDESC:Eventos para Ateneo Navarro | Nafar Ateneoa
REFRESH-INTERVAL;VALUE=DURATION:PT1H
X-Robots-Tag:noindex
X-PUBLISHED-TTL:PT1H
BEGIN:VTIMEZONE
TZID:Europe/Paris
BEGIN:DAYLIGHT
TZOFFSETFROM:+0100
TZOFFSETTO:+0200
TZNAME:CEST
DTSTART:20240331T010000
END:DAYLIGHT
BEGIN:STANDARD
TZOFFSETFROM:+0200
TZOFFSETTO:+0100
TZNAME:CET
DTSTART:20241027T010000
END:STANDARD
BEGIN:DAYLIGHT
TZOFFSETFROM:+0100
TZOFFSETTO:+0200
TZNAME:CEST
DTSTART:20250330T010000
END:DAYLIGHT
BEGIN:STANDARD
TZOFFSETFROM:+0200
TZOFFSETTO:+0100
TZNAME:CET
DTSTART:20251026T010000
END:STANDARD
BEGIN:DAYLIGHT
TZOFFSETFROM:+0100
TZOFFSETTO:+0200
TZNAME:CEST
DTSTART:20260329T010000
END:DAYLIGHT
BEGIN:STANDARD
TZOFFSETFROM:+0200
TZOFFSETTO:+0100
TZNAME:CET
DTSTART:20261025T010000
END:STANDARD
END:VTIMEZONE
BEGIN:VEVENT
DTSTART;TZID=Europe/Paris:20251212T190000
DTEND;TZID=Europe/Paris:20251212T190000
DTSTAMP:20260418T081536
CREATED:20251125T155725Z
LAST-MODIFIED:20251127T112612Z
UID:149380-1765566000-1765566000@ateneonavarro.com
SUMMARY:Concierto VIII centenario del Cántico de las criaturas de San Francisco de Asís
DESCRIPTION:Cuarteto Stratum*\nPresenta y organiza / Aurkezla eta antolatzailea : Javier Asiáin. Vocalía de Poesía \n  \nNarrador: Alfonso Olaz\nÓrgano: Pedro María Ardaiz\nBajo: Aitor Kamiruaga\nSoprano: Lourdes Moratinos \nCon motivo del VIII centenario del Cántico de las criaturas de San Francisco de Asís\, tendrá lugar la celebración de una lectura interpretada acompañada de canto en un espacio espiritual y poético que nos trasladará a 1224\, año en el que Francisco de Asís compuso este himno de alabanza a toda la creación\, rindiendo homenaje\, entre otros\, al “hermano viento”\, el “hermano sol” o la “hermana agua” . \nImagen: Johann Anton Ramboux (1790-1866). San Francisco predicando a los pájaros\, a partir del fresco de Giotto (ca. 1267-1337)
URL:https://ateneonavarro.com/evento/concierto-viii-centenario-del-cantico-de-las-criaturas-de-san-francisco-de-asis/
LOCATION:Iglesia Santo Domingo
CATEGORIES:CONCIERTO - KONTZERTUA
ATTACH;FMTTYPE=image/jpeg:https://ateneonavarro.com/wp-content/uploads/2025/11/conciertosfasiss_ateneo.jpg
END:VEVENT
END:VCALENDAR