BEGIN:VCALENDAR
VERSION:2.0
PRODID:-//Ateneo Navarro | Nafar Ateneoa - ECPv6.15.14//NONSGML v1.0//EN
CALSCALE:GREGORIAN
METHOD:PUBLISH
X-ORIGINAL-URL:https://ateneonavarro.com
X-WR-CALDESC:Eventos para Ateneo Navarro | Nafar Ateneoa
REFRESH-INTERVAL;VALUE=DURATION:PT1H
X-Robots-Tag:noindex
X-PUBLISHED-TTL:PT1H
BEGIN:VTIMEZONE
TZID:Europe/Paris
BEGIN:DAYLIGHT
TZOFFSETFROM:+0100
TZOFFSETTO:+0200
TZNAME:CEST
DTSTART:20240331T010000
END:DAYLIGHT
BEGIN:STANDARD
TZOFFSETFROM:+0200
TZOFFSETTO:+0100
TZNAME:CET
DTSTART:20241027T010000
END:STANDARD
BEGIN:DAYLIGHT
TZOFFSETFROM:+0100
TZOFFSETTO:+0200
TZNAME:CEST
DTSTART:20250330T010000
END:DAYLIGHT
BEGIN:STANDARD
TZOFFSETFROM:+0200
TZOFFSETTO:+0100
TZNAME:CET
DTSTART:20251026T010000
END:STANDARD
BEGIN:DAYLIGHT
TZOFFSETFROM:+0100
TZOFFSETTO:+0200
TZNAME:CEST
DTSTART:20260329T010000
END:DAYLIGHT
BEGIN:STANDARD
TZOFFSETFROM:+0200
TZOFFSETTO:+0100
TZNAME:CET
DTSTART:20261025T010000
END:STANDARD
END:VTIMEZONE
BEGIN:VEVENT
DTSTART;TZID=Europe/Paris:20251109T120000
DTEND;TZID=Europe/Paris:20251109T190000
DTSTAMP:20260421T191845
CREATED:20251028T104512Z
LAST-MODIFIED:20251104T123250Z
UID:149022-1762689600-1762714800@ateneonavarro.com
SUMMARY:Cuartetos de Mozart para flauta
DESCRIPTION:Cuarteto Stratum*\nOrganiza / Antolatzailea: Julio Escauriaza. Vocalía de Música \n  \nLos cuatro cuartetos para flauta y cuerdas de Mozart nacen en un contexto muy concreto: el encargo de un rico aficionado holandés\, Ferdinand Dejean\, que en 1777 solicitó a Mozart varias piezas con flauta. A pesar de que Mozart confesaba no sentir gran simpatía por este instrumento\, la calidad de las obras desmiente cualquier reticencia: se trata de música refinada\, llena de gracia melódica\, equilibrio clásico y un profundo conocimiento de la escritura camerística. \n(*) Cuarteto Stratum. Flauta: Roberto Casado Violín: José Ignacio López Viola: Giovanna Azzonne Cello: Misael Lacasta
URL:https://ateneonavarro.com/evento/cuartetos-de-mozart-para-flauta/
LOCATION:Nuevo Casino Principal\, Pl. del Castillo\, n° 44 bis\, 1°\, Pamplona\, NC
CATEGORIES:CONCIERTO - KONTZERTUA
ATTACH;FMTTYPE=image/jpeg:https://ateneonavarro.com/wp-content/uploads/2025/10/ateneo_actividad3_noviembre.jpg
END:VEVENT
BEGIN:VEVENT
DTSTART;TZID=Europe/Paris:20251130T130000
DTEND;TZID=Europe/Paris:20251130T130000
DTSTAMP:20260421T191845
CREATED:20251029T084348Z
LAST-MODIFIED:20251104T124843Z
UID:149148-1764507600-1764507600@ateneonavarro.com
SUMMARY:Soyeon Chang\, piano
DESCRIPTION:Soyeon Chang\nOrganiza / Antolatzailea: Julio Escauriaza. Vocalía de Música \nLa pianista Soyeon Chang es reconocida por su sensibilidad poética\, brillantez técnica y profunda integridad musical. Nacida en Seúl\, Corea\, comenzó sus estudios de piano a una edad temprana y desde entonces ha desarrollado una voz matizada y expresiva que continúa cautivando a audiencias y críticos por igual. El estilo de Chang es frecuentemente elogiado por su elegancia\, sinceridad y color imaginativo. Con un repertorio que abarca desde grandes obras clásicas hasta piezas modernas menos conocidas\, aborda cada obra con curiosidad y integridad interpretativa\, invitando al público a un mundo musical profundamente personal y comunicativo.
URL:https://ateneonavarro.com/evento/soyeon-chang-piano/
LOCATION:Nuevo Casino Principal\, Pl. del Castillo\, n° 44 bis\, 1°\, Pamplona\, NC
CATEGORIES:CONCIERTO - KONTZERTUA
ATTACH;FMTTYPE=image/jpeg:https://ateneonavarro.com/wp-content/uploads/2025/10/ateneo_actividad16_noviembre.jpg
END:VEVENT
END:VCALENDAR