BEGIN:VCALENDAR
VERSION:2.0
PRODID:-//Ateneo Navarro | Nafar Ateneoa - ECPv6.15.14//NONSGML v1.0//EN
CALSCALE:GREGORIAN
METHOD:PUBLISH
X-WR-CALNAME:Ateneo Navarro | Nafar Ateneoa
X-ORIGINAL-URL:https://ateneonavarro.com
X-WR-CALDESC:Eventos para Ateneo Navarro | Nafar Ateneoa
REFRESH-INTERVAL;VALUE=DURATION:PT1H
X-Robots-Tag:noindex
X-PUBLISHED-TTL:PT1H
BEGIN:VTIMEZONE
TZID:Europe/Paris
BEGIN:DAYLIGHT
TZOFFSETFROM:+0100
TZOFFSETTO:+0200
TZNAME:CEST
DTSTART:20250330T010000
END:DAYLIGHT
BEGIN:STANDARD
TZOFFSETFROM:+0200
TZOFFSETTO:+0100
TZNAME:CET
DTSTART:20251026T010000
END:STANDARD
BEGIN:DAYLIGHT
TZOFFSETFROM:+0100
TZOFFSETTO:+0200
TZNAME:CEST
DTSTART:20260329T010000
END:DAYLIGHT
BEGIN:STANDARD
TZOFFSETFROM:+0200
TZOFFSETTO:+0100
TZNAME:CET
DTSTART:20261025T010000
END:STANDARD
BEGIN:DAYLIGHT
TZOFFSETFROM:+0100
TZOFFSETTO:+0200
TZNAME:CEST
DTSTART:20270328T010000
END:DAYLIGHT
BEGIN:STANDARD
TZOFFSETFROM:+0200
TZOFFSETTO:+0100
TZNAME:CET
DTSTART:20271031T010000
END:STANDARD
END:VTIMEZONE
BEGIN:VEVENT
DTSTART;TZID=Europe/Paris:20260306T190000
DTEND;TZID=Europe/Paris:20260306T190000
DTSTAMP:20260417T194601
CREATED:20260218T215141Z
LAST-MODIFIED:20260302T084803Z
UID:149975-1772823600-1772823600@ateneonavarro.com
SUMMARY:Navarras y navarros ilustres: Conversaciones y charlas para descubrir vidas que inspiran. Matilde Huici Navaz
DESCRIPTION:Ponente / Hizlaria: Ángel García-Sanz Marcotegui* \n \n  \nMatilde Huici Navaz nació en Pamplona\, el 3 de agosto de 1890\, y falleció en Santiago de Chile\, el 13 de abril de 1965. Fue una destacada maestra\, abogada\, pedagoga y sufragista\, cuyo legado dejó una huella imborrable en la lucha por la igualdad de género y los derechos de las mujeres. \n(*) Ángel García-Sanz Marcotegui Licenciado en Geografía e Historia por la Universidad de Navarra. Ha sido profesor titular de Historia Contemporánea en la UPV/EHU y en la UPNA. Además de escribir la biografía de Matilde Huici\, cuenta con una extensa producción historiográfica en artículos\, libros propios\, colaboraciones y congresos.
URL:https://ateneonavarro.com/evento/navarras-y-navarros-ilustres-conversaciones-y-charlas-para-descubrir-vidas-que-inspiran-matilde-huici-navaz/
LOCATION:Sede del Ateneo – Ateneoaren egoitzan\, Avda. Barañain\, 10 – 1ºA\, Pamplona\, NC
CATEGORIES:CICLO - ZIKLOA,NAVARRAS Y NAVARROS CON HISTORIA
ATTACH;FMTTYPE=image/jpeg:https://ateneonavarro.com/wp-content/uploads/2026/02/ciclo_navarras_navarros_matildehuici_ateneo.jpg
END:VEVENT
END:VCALENDAR