BEGIN:VCALENDAR
VERSION:2.0
PRODID:-//Ateneo Navarro | Nafar Ateneoa - ECPv6.15.14//NONSGML v1.0//EN
CALSCALE:GREGORIAN
METHOD:PUBLISH
X-WR-CALNAME:Ateneo Navarro | Nafar Ateneoa
X-ORIGINAL-URL:https://ateneonavarro.com
X-WR-CALDESC:Eventos para Ateneo Navarro | Nafar Ateneoa
REFRESH-INTERVAL;VALUE=DURATION:PT1H
X-Robots-Tag:noindex
X-PUBLISHED-TTL:PT1H
BEGIN:VTIMEZONE
TZID:Europe/Paris
BEGIN:DAYLIGHT
TZOFFSETFROM:+0100
TZOFFSETTO:+0200
TZNAME:CEST
DTSTART:20250330T010000
END:DAYLIGHT
BEGIN:STANDARD
TZOFFSETFROM:+0200
TZOFFSETTO:+0100
TZNAME:CET
DTSTART:20251026T010000
END:STANDARD
BEGIN:DAYLIGHT
TZOFFSETFROM:+0100
TZOFFSETTO:+0200
TZNAME:CEST
DTSTART:20260329T010000
END:DAYLIGHT
BEGIN:STANDARD
TZOFFSETFROM:+0200
TZOFFSETTO:+0100
TZNAME:CET
DTSTART:20261025T010000
END:STANDARD
BEGIN:DAYLIGHT
TZOFFSETFROM:+0100
TZOFFSETTO:+0200
TZNAME:CEST
DTSTART:20270328T010000
END:DAYLIGHT
BEGIN:STANDARD
TZOFFSETFROM:+0200
TZOFFSETTO:+0100
TZNAME:CET
DTSTART:20271031T010000
END:STANDARD
END:VTIMEZONE
BEGIN:VEVENT
DTSTART;TZID=Europe/Paris:20260428T190000
DTEND;TZID=Europe/Paris:20260428T200000
DTSTAMP:20260419T064619
CREATED:20260127T084052Z
LAST-MODIFIED:20260323T093027Z
UID:149849-1777402800-1777406400@ateneonavarro.com
SUMMARY:Claves para un futuro sin brújula: Memoria histórica. Daniel Rico Camps
DESCRIPTION:Ponente / Hizlaria: Daniel Rico Camps*. Universidad Autónoma de Barcelona UAB\nPresenta / Aurkezlea: Manuel Bear Sanz. Periodista\nOrganiza / Antolatzailea: Vocalía de Humanidades \nCiclo organizado por el Ateneo Navarro y la Biblioteca de Navarra \nHistoria\, memoria\, patrimonio \nLa estabilidad y el progreso de las sociedades exigen un consenso sobre el pasado en la medida que este condiciona la percepción del presente y la proyección del futuro. El pasado está en constante revisión por la evolución misma de la sociedad\, la cual cuestiona la simbología de los edificios\, monumentos\, estatuas y placas que lo recuerdan. \n¿Qué criterios justifican la intervención sobre estos elementos del paisaje urbano? ¿Qué es la resignificación y hasta dónde alcanza? Son preguntas que abordará en su ponencia el profesor Daniel Rico Camps\, de la Universidad Autónoma de Barcelona (UAB). \n(*) Daniel Rico Camps (Barcelona\,1969) es profesor de Historia del Arte de la Universidad Autónoma de Barcelona. Experto en arte y epigrafía medievales\, suele escribir también sobre patrimonio\, memoria y museología. Es autor del libro ¿Quién teme a Francisco Franco? (Anagrama\, 2024).
URL:https://ateneonavarro.com/evento/claves-para-un-futuro-sin-brujula-memoria-historica-daniel-rico-camps/
LOCATION:Biblioteca General de Navarra\, P.º Antonio Pérez Goyena\, 3\, Pamplona
CATEGORIES:CICLO - ZIKLOA,CLAVES PARA UN FUTURO INCIERTO
ATTACH;FMTTYPE=image/jpeg:https://ateneonavarro.com/wp-content/uploads/2026/01/daniel-rico-camps_cicloclaves_ateneonavarro.jpg
END:VEVENT
END:VCALENDAR