BEGIN:VCALENDAR
VERSION:2.0
PRODID:-//Ateneo Navarro | Nafar Ateneoa - ECPv6.15.14//NONSGML v1.0//EN
CALSCALE:GREGORIAN
METHOD:PUBLISH
X-ORIGINAL-URL:https://ateneonavarro.com
X-WR-CALDESC:Eventos para Ateneo Navarro | Nafar Ateneoa
REFRESH-INTERVAL;VALUE=DURATION:PT1H
X-Robots-Tag:noindex
X-PUBLISHED-TTL:PT1H
BEGIN:VTIMEZONE
TZID:Europe/Paris
BEGIN:DAYLIGHT
TZOFFSETFROM:+0100
TZOFFSETTO:+0200
TZNAME:CEST
DTSTART:20250330T010000
END:DAYLIGHT
BEGIN:STANDARD
TZOFFSETFROM:+0200
TZOFFSETTO:+0100
TZNAME:CET
DTSTART:20251026T010000
END:STANDARD
BEGIN:DAYLIGHT
TZOFFSETFROM:+0100
TZOFFSETTO:+0200
TZNAME:CEST
DTSTART:20260329T010000
END:DAYLIGHT
BEGIN:STANDARD
TZOFFSETFROM:+0200
TZOFFSETTO:+0100
TZNAME:CET
DTSTART:20261025T010000
END:STANDARD
BEGIN:DAYLIGHT
TZOFFSETFROM:+0100
TZOFFSETTO:+0200
TZNAME:CEST
DTSTART:20270328T010000
END:DAYLIGHT
BEGIN:STANDARD
TZOFFSETFROM:+0200
TZOFFSETTO:+0100
TZNAME:CET
DTSTART:20271031T010000
END:STANDARD
END:VTIMEZONE
BEGIN:VEVENT
DTSTART;TZID=Europe/Paris:20260512T190000
DTEND;TZID=Europe/Paris:20260512T200000
DTSTAMP:20260419T071409
CREATED:20260127T084443Z
LAST-MODIFIED:20260127T084443Z
UID:149853-1778612400-1778616000@ateneonavarro.com
SUMMARY:Claves para un futuro incierto: Geopolítica. Fernando Vallespín Oña
DESCRIPTION:Ponente / Hizlaria: Fernando Vallespín Oña.\nPresenta / Aurkezlea: Manuel Bear Sanz.  Periodista \n  \nGeopolítica: La posición de Europa en el nuevo mapa geopolítico del planeta. Cohesión interna\, aliados y adversarios. \nCiclo organizado por el Ateneo Navarro y la Biblioteca de Navarra \nFernando Vallespín Oña\, profesor de ciencia política de la Universidad Autónoma de Madrid; ha publicado\, entre otros\, Populismos (Alianza) y La sociedad de la intolerancia (Galaxia Gutenberg).
URL:https://ateneonavarro.com/evento/claves-para-un-futuro-incierto-geopolitica-fernando-vallespin-ona/
LOCATION:Biblioteca General de Navarra\, P.º Antonio Pérez Goyena\, 3\, Pamplona
CATEGORIES:CICLO - ZIKLOA,CLAVES PARA UN FUTURO INCIERTO
ATTACH;FMTTYPE=image/jpeg:https://ateneonavarro.com/wp-content/uploads/2026/01/fernandovallespinok_cicloclaves_ateneonavarro.jpg
END:VEVENT
BEGIN:VEVENT
DTSTART;TZID=Europe/Paris:20260526T190000
DTEND;TZID=Europe/Paris:20260526T200000
DTSTAMP:20260419T071409
CREATED:20260127T084645Z
LAST-MODIFIED:20260323T092726Z
UID:149856-1779822000-1779825600@ateneonavarro.com
SUMMARY:Claves para un futuro sin brújula: Feminismo. Cristina Monge Lasierra
DESCRIPTION:Ponente / Hizlaria: Cristina Monge Lasierra.\nPresenta / Aurkezlea: Manuel Bear Sanz.  Periodista \n  \nEl feminismo en la incertidumbre: Para muchos\, la gran revolución cultural del primer cuarto de siglo la han protagonizado las mujeres. Panorama actual del feminismo en un contexto de incertidumbre caracterizado por el renacer del revisionismo y el autoritarismo. \nCiclo organizado por el Ateneo Navarro y la Biblioteca de Navarra \nCristina Monge Lasierra\, profesora de la Universidad de Zaragoza; investigadora del proyecto Sociedad\, creatividad e incertidumbre; reciente ganadora del premio Paidós de ensayo con Contra el descontento.
URL:https://ateneonavarro.com/evento/claves-para-un-futuro-sin-brujula-feminismo-cristina-monge-lasierra/
LOCATION:Biblioteca General de Navarra\, P.º Antonio Pérez Goyena\, 3\, Pamplona
CATEGORIES:CICLO - ZIKLOA,CLAVES PARA UN FUTURO INCIERTO
ATTACH;FMTTYPE=image/jpeg:https://ateneonavarro.com/wp-content/uploads/2026/01/cristinamonge_cicloclaves_ateneonavarro.jpg
END:VEVENT
END:VCALENDAR