BEGIN:VCALENDAR
VERSION:2.0
PRODID:-//Ateneo Navarro | Nafar Ateneoa - ECPv6.15.14//NONSGML v1.0//EN
CALSCALE:GREGORIAN
METHOD:PUBLISH
X-WR-CALNAME:Ateneo Navarro | Nafar Ateneoa
X-ORIGINAL-URL:https://ateneonavarro.com
X-WR-CALDESC:Eventos para Ateneo Navarro | Nafar Ateneoa
REFRESH-INTERVAL;VALUE=DURATION:PT1H
X-Robots-Tag:noindex
X-PUBLISHED-TTL:PT1H
BEGIN:VTIMEZONE
TZID:Europe/Paris
BEGIN:DAYLIGHT
TZOFFSETFROM:+0100
TZOFFSETTO:+0200
TZNAME:CEST
DTSTART:20250330T010000
END:DAYLIGHT
BEGIN:STANDARD
TZOFFSETFROM:+0200
TZOFFSETTO:+0100
TZNAME:CET
DTSTART:20251026T010000
END:STANDARD
BEGIN:DAYLIGHT
TZOFFSETFROM:+0100
TZOFFSETTO:+0200
TZNAME:CEST
DTSTART:20260329T010000
END:DAYLIGHT
BEGIN:STANDARD
TZOFFSETFROM:+0200
TZOFFSETTO:+0100
TZNAME:CET
DTSTART:20261025T010000
END:STANDARD
BEGIN:DAYLIGHT
TZOFFSETFROM:+0100
TZOFFSETTO:+0200
TZNAME:CEST
DTSTART:20270328T010000
END:DAYLIGHT
BEGIN:STANDARD
TZOFFSETFROM:+0200
TZOFFSETTO:+0100
TZNAME:CET
DTSTART:20271031T010000
END:STANDARD
END:VTIMEZONE
BEGIN:VEVENT
DTSTART;TZID=Europe/Paris:20260209T190000
DTEND;TZID=Europe/Paris:20260209T190000
DTSTAMP:20260419T065212
CREATED:20260115T082949Z
LAST-MODIFIED:20260127T094208Z
UID:149696-1770663600-1770663600@ateneonavarro.com
SUMMARY:Conversaciones Literarias 2026: Cómo capturar un mundo fragmentado. Mireya Hernández
DESCRIPTION:Ponente / Hizlaria: Mireya Hernández*.\nPresenta / Aurkezlea: Roberto Valencia. Vocalía de Literatura y Lingüística \n  \n¿Quién cuenta la Historia? ¿Los historiadores o los novelistas? La creación literaria y artística no solo ha tratado de expresar sus propias pulsiones\, sino que también ha vislumbrado\, anticipado o simplemente comentado los cambios políticos y sociales. En los últimos dos siglos han ocurrido tantos fenómenos en el mundo del arte\, de la ciencia\, de la filosofía y de la política\, tantos y tan relacionados entre sí\, que únicamente la colaboración entre historiadores y escritores podría dar cuenta del cambio que nuestro mundo experimentó en ese período. Mireya Hernández ha publicado en 2025 Veo el mundo como una gran sinfonía\, un conjunto de textos que trata de reflejar esa gran multiplicidad\, deteniéndose a menudo en el fuera de campo y en lo que no percibimos a través de los sentidos. En su libro\, las historias terminan convirtiéndose en espejos deformados que nos sitúan al borde del abismo\, desde donde solo cabe hacerse preguntas. En esta conversación hablaremos sobre cómo la literatura y el arte pueden abordar la realidad de un tiempo fascinante: la modernidad. \n(*) Mireya Hernández\, escritora\, filóloga inglesa\, periodista y traductora nacida en Madrid\, pondrá la mirada en el tema Cómo capturar un mundo fragmentado. Sobre cómo la literatura y el arte pueden abordar la modernidad se conversará con la autora de Veo el mundo como una gran sinfonía (2025).
URL:https://ateneonavarro.com/evento/conversaciones-literarias-2026-como-capturar-un-mundo-fragmentado-mireya-hernandez/
LOCATION:Biblioteca General de Navarra\, P.º Antonio Pérez Goyena\, 3\, Pamplona
CATEGORIES:CICLO - ZIKLOA,CONVERSACIONES LITERARIAS
ATTACH;FMTTYPE=image/jpeg:https://ateneonavarro.com/wp-content/uploads/2026/01/cicloconversacionesliterarias_mireyahernandez_ateneo.jpg
END:VEVENT
BEGIN:VEVENT
DTSTART;TZID=Europe/Paris:20260224T190000
DTEND;TZID=Europe/Paris:20260224T190000
DTSTAMP:20260419T065213
CREATED:20260115T083130Z
LAST-MODIFIED:20260127T103835Z
UID:149699-1771959600-1771959600@ateneonavarro.com
SUMMARY:Conversaciones Literarias 2026: El desahucio de la información. Jordi Gracia
DESCRIPTION:Ponente / Hizlaria: Jordi Gracia*.\nPresenta / Aurkezlea: Roberto Valencia. Vocalía de Literatura y Lingüística\nOrganiza / Antolatzailea: Roberto Valencia. Ateneo Navarro y Biblioteca de Navarra \nDesde hace dos décadas\, la revolución digital lo impregna todo\, y también ha alcanzado a la información y a la percepción de la ciudadanía sobre qué es estar informado. Con una intervención parcial por nuestra parte\, los móviles inteligentes administran cuál es el menú informativo que tenemos a mano\, en cuál ponemos la atención\, con qué enfoque y de qué hablamos. La noción misma de medio de información profesional se ha desvanecido porque dejó de ser un instrumento destinado a aportar noticias y opiniones fundadas o articuladas sobre los sucesos de la actualidad. La era digital ha transformado el modo en el que la ciudadanía recibe la información\, a menudo menos por voluntad propia que por una lluvia torrencial que llega desde móvil. ¿Tiene sentido seguir confiando en los medios de información profesionales y distinguirlos de la multitud de páginas web y canales digitales que inducen el simulacro de ser medios profesionales? ¿Tiene esto efectos en la cultura democrática? \n(*) Jordi Gracia (Barcelona\, 1965) es catedrático de literatura española en la Universidad de Barcelona y ha sido jefe de Opinión de El País en la etapa de Pepa Bueno. Es autor de numerosos ensayos y libros sobre historia cultural española (y catalana)\, y en la actualidad ejerce la crítica literaria en El País.
URL:https://ateneonavarro.com/evento/conversaciones-literarias-2026-el-desahucio-de-la-informacion-jordi-gracia/
LOCATION:Biblioteca General de Navarra\, P.º Antonio Pérez Goyena\, 3\, Pamplona
CATEGORIES:CICLO - ZIKLOA,CONVERSACIONES LITERARIAS
ATTACH;FMTTYPE=image/jpeg:https://ateneonavarro.com/wp-content/uploads/2026/01/cicloconversacionesliterarias_jordigracia_ateneo.jpg
END:VEVENT
END:VCALENDAR