BEGIN:VCALENDAR
VERSION:2.0
PRODID:-//Ateneo Navarro | Nafar Ateneoa - ECPv6.15.14//NONSGML v1.0//EN
CALSCALE:GREGORIAN
METHOD:PUBLISH
X-ORIGINAL-URL:https://ateneonavarro.com
X-WR-CALDESC:Eventos para Ateneo Navarro | Nafar Ateneoa
REFRESH-INTERVAL;VALUE=DURATION:PT1H
X-Robots-Tag:noindex
X-PUBLISHED-TTL:PT1H
BEGIN:VTIMEZONE
TZID:Europe/Paris
BEGIN:DAYLIGHT
TZOFFSETFROM:+0100
TZOFFSETTO:+0200
TZNAME:CEST
DTSTART:20250330T010000
END:DAYLIGHT
BEGIN:STANDARD
TZOFFSETFROM:+0200
TZOFFSETTO:+0100
TZNAME:CET
DTSTART:20251026T010000
END:STANDARD
BEGIN:DAYLIGHT
TZOFFSETFROM:+0100
TZOFFSETTO:+0200
TZNAME:CEST
DTSTART:20260329T010000
END:DAYLIGHT
BEGIN:STANDARD
TZOFFSETFROM:+0200
TZOFFSETTO:+0100
TZNAME:CET
DTSTART:20261025T010000
END:STANDARD
BEGIN:DAYLIGHT
TZOFFSETFROM:+0100
TZOFFSETTO:+0200
TZNAME:CEST
DTSTART:20270328T010000
END:DAYLIGHT
BEGIN:STANDARD
TZOFFSETFROM:+0200
TZOFFSETTO:+0100
TZNAME:CET
DTSTART:20271031T010000
END:STANDARD
END:VTIMEZONE
BEGIN:VEVENT
DTSTART;TZID=Europe/Paris:20260112T190000
DTEND;TZID=Europe/Paris:20260112T200000
DTSTAMP:20260418T075616
CREATED:20260107T092416Z
LAST-MODIFIED:20260115T082628Z
UID:149518-1768244400-1768248000@ateneonavarro.com
SUMMARY:Conversaciones Literarias 2026: La fiesta del fin del mundo. Natalia Castro Picón
DESCRIPTION:Ponente / Hizlaria: Natalia Castro Picón*.\nCoordinación y conversa/ Koordinazioa eta aurkezpena: Roberto Valencia. Vocalía de Literatura y Lingüística\nOrganiza/ Antolatzailea: Ateneo Navarro y Biblioteca de Navarra. Nafar Ateneo eta Nafarroako Liburutegia \n«Vota a Godzilla»\, reclamaba uno de los carteles de las protestas ciudadanas de 2011\, «puestos a mandar todo al carajo\, ¡hagámoslo a lo grande!». Se aborda la historia reciente de España atendiendo a las muchas crisis que han brotado entre 2008 y la pandemia: la de la democracia\, la ecológica\, la extinción del derecho a la ciudad\, el resurgimiento del fascismo\, el racismo y la guerra contra las mujeres… \nEn ese contexto\, el imaginario apocalíptico lo contagia todo: los medios de comunicación\, la literatura\, el cine\, la música y las artes escénicas y gráficas. Entre el espanto paralizante y la rabia insurgente\, entre la euforia escapista y la provocación lúdica\, la autora se pregunta de qué hablamos cuando hablamos de fin del mundo. \n¿Solo nos queda el desahogo nihilista o estas proclamas abren la puerta a la revuelta por otro mundo posible? Alejado de las tesis colapsistas y a la contra del «sálvese quien pueda»\, este ensayo reivindica el carácter político de la imaginación y ofrece un testimonio del uso del apocalipsis como una poética de ambición revolucionaria. \n(*) Natalia Castro Picón (Menorca\, 1989) es profesora e investigadora de cultura española moderna y contemporánea en la universidad de Princeton. Se licenció en Filología Hispánica por la Universidad Complutense de Madrid y es doctora por la Universidad de la Ciudad de Nueva York. También ha publicado los poemarios La intermitencia de los faros (Canalla Ediciones\, 2013) y La misma piedra (Baile del Sol\, 2016). En 2013 fue becaria en la Fundación Antonio Gala para jóvenes creadores. La fiesta del fin del mundo es su primer ensayo.
URL:https://ateneonavarro.com/evento/conversaciones-literarias-2026-la-fiesta-del-fin-del-mundo-natalia-castro-picon/
LOCATION:Biblioteca General de Navarra\, P.º Antonio Pérez Goyena\, 3\, Pamplona
CATEGORIES:CICLO - ZIKLOA,CONVERSACIONES LITERARIAS
ATTACH;FMTTYPE=image/jpeg:https://ateneonavarro.com/wp-content/uploads/2026/01/cicloconversacionesliterarias_nataliapiconOK_ateneo.jpg
END:VEVENT
BEGIN:VEVENT
DTSTART;TZID=Europe/Paris:20260126T190000
DTEND;TZID=Europe/Paris:20260126T200000
DTSTAMP:20260418T075616
CREATED:20260107T112019Z
LAST-MODIFIED:20260115T082606Z
UID:149570-1769454000-1769457600@ateneonavarro.com
SUMMARY:Conversaciones Literarias 2026: La fascinación contemporánea por la violencia en la literatura y los medios de comunicación. David Sánchez Usanos
DESCRIPTION:Ponente / Hizlaria: David Sánchez Usanos*.\nCoordinación y conversa/ Koordinazioa eta aurkezpena: Roberto Valencia. Vocalía de Literatura y Lingüística\nOrganiza/ Antolatzailea: Ateneo Navarro y Biblioteca de Navarra. Nafar Ateneo eta Nafarroako Liburutegia \nVivimos en un mundo más globalizado y homogéneo que nunca. En buena medida esto tiene que ver con la expansión económica\, militar y cultural estadounidense que se produjo a partir de la Segunda Guerra Mundial. Desde entonces\, nuestra experiencia está condicionada por lo que se exportó desde Estados Unidos. Por ello\, el examen de ciertos fenómenos culturales y literarios específicos de ese momento y esa geografía pueden ayudar a comprender mejor nuestra forma de pensar\, sentir y valorar. A partir de la lectura atenta de novelas como El largo adiós\, de intervenciones como A sangre fría y del análisis de los turbulentos años 60 (magnicidios como los de los Kennedy\, guerra de Vietnam\, los crímenes de Charles Manson)\, conversaremos sobre el atractivo que hoy en día ejerce la representación de la violencia en obras artísticas y literarias\, y también en los medios de comunicación. \n(*) David Sánchez Usanos es profesor de filosofía en la Universidad Autónoma de Madrid y en la escuela SUR del Círculo de Bellas Artes. Sus líneas de investigación tienen que ver con la experiencia temporal y con las intersecciones entre filosofía y literatura. Ha traducido a autores como Fredric Jameson o William Faulkner y trata de compaginar su actividad docente e investigadora con la crítica literaria y musical. Entre sus últimas publicaciones destacan los libros A tres versos del final. Filosofía y literatura y Enfrentarse al espejo. Lecturas del fracaso en la narrativa estadounidense (1951-1961).
URL:https://ateneonavarro.com/evento/conversaciones-literarias-2026-la-fascinacion-contemporanea-por-la-violencia-en-la-literatura-y-los-medios-de-comunicacion-david-sanchez-usanos/
LOCATION:Biblioteca General de Navarra\, P.º Antonio Pérez Goyena\, 3\, Pamplona
CATEGORIES:CICLO - ZIKLOA,CONVERSACIONES LITERARIAS
ATTACH;FMTTYPE=image/jpeg:https://ateneonavarro.com/wp-content/uploads/2026/01/cicloconversacionesliterarias-David-Sanchez-Usanosok_ateneo.jpg
END:VEVENT
END:VCALENDAR