BEGIN:VCALENDAR
VERSION:2.0
PRODID:-//Ateneo Navarro | Nafar Ateneoa - ECPv6.15.14//NONSGML v1.0//EN
CALSCALE:GREGORIAN
METHOD:PUBLISH
X-ORIGINAL-URL:https://ateneonavarro.com
X-WR-CALDESC:Eventos para Ateneo Navarro | Nafar Ateneoa
REFRESH-INTERVAL;VALUE=DURATION:PT1H
X-Robots-Tag:noindex
X-PUBLISHED-TTL:PT1H
BEGIN:VTIMEZONE
TZID:Europe/Paris
BEGIN:DAYLIGHT
TZOFFSETFROM:+0100
TZOFFSETTO:+0200
TZNAME:CEST
DTSTART:20240331T010000
END:DAYLIGHT
BEGIN:STANDARD
TZOFFSETFROM:+0200
TZOFFSETTO:+0100
TZNAME:CET
DTSTART:20241027T010000
END:STANDARD
BEGIN:DAYLIGHT
TZOFFSETFROM:+0100
TZOFFSETTO:+0200
TZNAME:CEST
DTSTART:20250330T010000
END:DAYLIGHT
BEGIN:STANDARD
TZOFFSETFROM:+0200
TZOFFSETTO:+0100
TZNAME:CET
DTSTART:20251026T010000
END:STANDARD
BEGIN:DAYLIGHT
TZOFFSETFROM:+0100
TZOFFSETTO:+0200
TZNAME:CEST
DTSTART:20260329T010000
END:DAYLIGHT
BEGIN:STANDARD
TZOFFSETFROM:+0200
TZOFFSETTO:+0100
TZNAME:CET
DTSTART:20261025T010000
END:STANDARD
END:VTIMEZONE
BEGIN:VEVENT
DTSTART;VALUE=DATE:20251213
DTEND;VALUE=DATE:20251214
DTSTAMP:20260416T215600
CREATED:20251125T160126Z
LAST-MODIFIED:20260114T085300Z
UID:149386-1765584000-1765670399@ateneonavarro.com
SUMMARY:Navarras y navarros con historia: Visita a Marcilla: Museo Oriental de los Agustinos Recoletos y castillo medieval
DESCRIPTION:  \n  \n  \nComo complemento al Ciclo navarras y navarros con Historia: Martín de Rada\, 450 aniversario de su nombramiento como primer embajador de España en China (1575). Visitaremos el Museo Oriental donde se recogen objetos y muestras de la estancia de misioneros agustinos en Filipinas y China. Y el Castillo palacio de Marcilla\, fortaleza de estilo gótico\, construido en el siglo XV por Mosen Pierres de Peralta y heredada por los marqueses de Falces hasta el siglo XX. \nInscripción en el WhatsApp del Ateneo: 620 208 682
URL:https://ateneonavarro.com/evento/navarras-y-navarros-con-historia-visita-a-marcilla-museo-oriental-de-los-agustinos-recoletos-y-castillo-medieval/
LOCATION:Museo Oriental de los Agustinos Recoletos y castillo medieval
CATEGORIES:CICLO - ZIKLOA,NAVARRAS Y NAVARROS CON HISTORIA
ATTACH;FMTTYPE=image/jpeg:https://ateneonavarro.com/wp-content/uploads/2025/11/ciclomarcilla_ateneo.jpg
END:VEVENT
END:VCALENDAR