BEGIN:VCALENDAR
VERSION:2.0
PRODID:-//Ateneo Navarro | Nafar Ateneoa - ECPv6.15.14//NONSGML v1.0//EN
CALSCALE:GREGORIAN
METHOD:PUBLISH
X-WR-CALNAME:Ateneo Navarro | Nafar Ateneoa
X-ORIGINAL-URL:https://ateneonavarro.com
X-WR-CALDESC:Eventos para Ateneo Navarro | Nafar Ateneoa
REFRESH-INTERVAL;VALUE=DURATION:PT1H
X-Robots-Tag:noindex
X-PUBLISHED-TTL:PT1H
BEGIN:VTIMEZONE
TZID:Europe/Paris
BEGIN:DAYLIGHT
TZOFFSETFROM:+0100
TZOFFSETTO:+0200
TZNAME:CEST
DTSTART:20250330T010000
END:DAYLIGHT
BEGIN:STANDARD
TZOFFSETFROM:+0200
TZOFFSETTO:+0100
TZNAME:CET
DTSTART:20251026T010000
END:STANDARD
BEGIN:DAYLIGHT
TZOFFSETFROM:+0100
TZOFFSETTO:+0200
TZNAME:CEST
DTSTART:20260329T010000
END:DAYLIGHT
BEGIN:STANDARD
TZOFFSETFROM:+0200
TZOFFSETTO:+0100
TZNAME:CET
DTSTART:20261025T010000
END:STANDARD
BEGIN:DAYLIGHT
TZOFFSETFROM:+0100
TZOFFSETTO:+0200
TZNAME:CEST
DTSTART:20270328T010000
END:DAYLIGHT
BEGIN:STANDARD
TZOFFSETFROM:+0200
TZOFFSETTO:+0100
TZNAME:CET
DTSTART:20271031T010000
END:STANDARD
END:VTIMEZONE
BEGIN:VEVENT
DTSTART;TZID=Europe/Paris:20260417T190000
DTEND;TZID=Europe/Paris:20260417T200000
DTSTAMP:20260422T194037
CREATED:20260323T082606Z
LAST-MODIFIED:20260323T083037Z
UID:150137-1776452400-1776456000@ateneonavarro.com
SUMMARY:Movimiento Centrífugo: Conferencia. Sin escrúpulos\, sin mensaje: Narradores perversos de la literatura. Mikel Rey
DESCRIPTION:Ponente / Hizlaria: Mikel Rey* .\nOrganiza / Antolatzailea: Regina Salcedo. Vocalía de Literatura y Lingüística. \n  \nTodos hemos oído hablar de la banalidad del Mal. Pero\, ¿qué ocurre cuando quien lo ejerce tiene la herramienta del lenguaje a su disposición y la utiliza para tratar de justificarse o convencernos de su punto de vista? El resultado\, sea el delirio de un loco o un razonamiento estructurado\, tiene siempre como objetivo llevarnos de la mano al abismo. No hay lugar donde el lenguaje de los monstruos humanos se desarrolle de forma más perfecta que en la literatura. Cientos de páginas disponibles para manipular\, defenderse\, ocultar\, mentir. Y para que\, como en un espejo deformante\, recordemos las veces en que hemos utilizado el lenguaje para disculpar nuestros actos más vergonzosos y brutales. \nEn esta conferencia\, el escritor Mikel Rey abordará las características de la voz narradora maligna y no fiable\, y repasará cuatro obras de la literatura universal que se sostienen sobre este concepto. \n(*) Mikel Rey (Pamplona\, 1981) ha ganado varios premios literarios y ejercido como crítico y jurado en concursos. Ha publicado las novelas Artífice y Luz de xenón\, y participado en la antología de relatos Guerreras I y II. Recibió una beca del Gobierno de Navarra con la que cursó el Máster de Escritura Creativa Hotel Kafka (Madrid).
URL:https://ateneonavarro.com/evento/movimiento-centrifugo-conferencia-sin-escrupulos-sin-mensaje-narradores-perversos-de-la-literatura-mikel-rey/
LOCATION:Sede del Ateneo – Ateneoaren egoitzan\, Avda. Barañain\, 10 – 1ºA\, Pamplona\, NC
CATEGORIES:CICLO - ZIKLOA,CLAVES PARA UN FUTURO INCIERTO
ATTACH;FMTTYPE=image/jpeg:https://ateneonavarro.com/wp-content/uploads/2026/03/conferencia_mikelrey_ateneo.jpg
END:VEVENT
END:VCALENDAR